BEGIN:VCALENDAR
VERSION:2.0
PRODID:-//AmPhil - Fundraising Consulting Firm - ECPv6.15.20//NONSGML v1.0//EN
CALSCALE:GREGORIAN
METHOD:PUBLISH
X-WR-CALNAME:AmPhil - Fundraising Consulting Firm
X-ORIGINAL-URL:https://amphil.com
X-WR-CALDESC:Events for AmPhil - Fundraising Consulting Firm
REFRESH-INTERVAL;VALUE=DURATION:PT1H
X-Robots-Tag:noindex
X-PUBLISHED-TTL:PT1H
BEGIN:VTIMEZONE
TZID:America/New_York
BEGIN:DAYLIGHT
TZOFFSETFROM:-0500
TZOFFSETTO:-0400
TZNAME:EDT
DTSTART:20220313T070000
END:DAYLIGHT
BEGIN:STANDARD
TZOFFSETFROM:-0400
TZOFFSETTO:-0500
TZNAME:EST
DTSTART:20221106T060000
END:STANDARD
BEGIN:DAYLIGHT
TZOFFSETFROM:-0500
TZOFFSETTO:-0400
TZNAME:EDT
DTSTART:20230312T070000
END:DAYLIGHT
BEGIN:STANDARD
TZOFFSETFROM:-0400
TZOFFSETTO:-0500
TZNAME:EST
DTSTART:20231105T060000
END:STANDARD
BEGIN:DAYLIGHT
TZOFFSETFROM:-0500
TZOFFSETTO:-0400
TZNAME:EDT
DTSTART:20240310T070000
END:DAYLIGHT
BEGIN:STANDARD
TZOFFSETFROM:-0400
TZOFFSETTO:-0500
TZNAME:EST
DTSTART:20241103T060000
END:STANDARD
END:VTIMEZONE
BEGIN:VEVENT
DTSTART;TZID=America/New_York:20230518T130000
DTEND;TZID=America/New_York:20230518T160000
DTSTAMP:20260420T222939
CREATED:20230213T193542Z
LAST-MODIFIED:20230509T140432Z
UID:4415742-1684414800-1684425600@amphil.com
SUMMARY:Advancing Your Mission With a Successful Campaign
DESCRIPTION:Advancing Your Mission With a Successful Campaign \nAre you looking for a quick infusion of cash? It can be tempting to see a capital campaign as the answer—but when it comes to campaigns\, only fools rush in. Running a successful capital campaign takes the right project\, the right donor base\, the right pitch\, and the right people. Done well\, a capital campaign can energize your donors and deepen relationships. Done poorly\, it can undermine your annual fundraising efforts\, exhaust your staff and volunteers\, and inflict permanent damage on your organization. \n  \nIn this master class\, you will learn the basics of capital campaigns and how to determine whether a campaign is right for you. More importantly\, you’ll learn how to sidestep a campaign’s sizeable risk\, and reap its bountiful rewards. You’ll also snag a one-on-one advising session with a course instructor after the class.  \n  \nThis master class will cover: \n\nWhat a capital campaign is and how it differs from your annual fundraising\nThe financial and secondary benefits of a campaign to your organization\nWhat kinds of projects and programs a campaign can cover\nHow to determine the right financial goal\nHow to map out a realistic campaign schedule\nThe importance of not moving too fast . . . or too slow\n\n			\n				\n				\n				\n				\n				\n						\n						\n			\n				\n				\n				\n				\n				\n				\n				\n				\n				\n				FAQs\n				What is included in my registration?Registration starts with a seat in the master class\, but doesn’t end there. In addition to attending the master class\, you will receive: \n\ntraining materials on the master class topic for future reference\,\nthe best essays and practicalities on the master class topic from Philanthropy Daily\,\nand a 30-minute one-on-one consultation with an American Philanthropic consultant at a time of your choosing following each master class.\n\nHow much does each session cost?A bundle of five classes is available for $1\,000. Purchased class bundles are transferable within your organization\, but only one person can participate in a class per registration. \nHow many people will be in the class?Each class will have no more than 20 participants. We want to keep the classes as intimate as possible to allow time for plenty of discussion and Q&A. \nHow will the class be conducted?The class will be conducted over video conference. Participants will receive a private link and password to join the video conference prior to the master class. \nWho is the ideal participant?The ideal participant is a nonprofit development leader with several years of fundraising experience. While most master classes include some background introductory material on the given subject\, they assume a basic level of familiarity with the subject at hand and are designed to help those seeking to further develop their skills. \nDo you have a waiting list?Yes. Each session has a waiting list. If a registrant can’t make a session\, we notify the first person on the waiting list. The waiting list for each class is first-come\, first-served. \nDo current clients receive a discount?Yes. If you’re a current client\, please contact us for a special discount code. \nWill participants receive CFRE credit for participating?No! We would post our reasoning here\, but it’s lengthy. Feel free to ask—but do so at your own risk!
URL:https://amphil.com/event/capitalcampaigns-mc/
LOCATION:Virtual Event
CATEGORIES:Master Class Capital Campaigns
ATTACH;FMTTYPE=image/webp:https://amphil.com/wp-content/uploads/2023/02/advancing-your-mission.webp
ORGANIZER;CN="AmPhil & the Center for Civil Society":MAILTO:events@americanphilanthropic.com
END:VEVENT
END:VCALENDAR